BEGIN:VCALENDAR
VERSION:2.0
PRODID:-//Camden District AME - ECPv6.15.18//NONSGML v1.0//EN
CALSCALE:GREGORIAN
METHOD:PUBLISH
X-ORIGINAL-URL:https://camdendistrict.com
X-WR-CALDESC:Events for Camden District AME
REFRESH-INTERVAL;VALUE=DURATION:PT1H
X-Robots-Tag:noindex
X-PUBLISHED-TTL:PT1H
BEGIN:VTIMEZONE
TZID:America/Chicago
BEGIN:DAYLIGHT
TZOFFSETFROM:-0600
TZOFFSETTO:-0500
TZNAME:CDT
DTSTART:20220313T080000
END:DAYLIGHT
BEGIN:STANDARD
TZOFFSETFROM:-0500
TZOFFSETTO:-0600
TZNAME:CST
DTSTART:20221106T070000
END:STANDARD
BEGIN:DAYLIGHT
TZOFFSETFROM:-0600
TZOFFSETTO:-0500
TZNAME:CDT
DTSTART:20230312T080000
END:DAYLIGHT
BEGIN:STANDARD
TZOFFSETFROM:-0500
TZOFFSETTO:-0600
TZNAME:CST
DTSTART:20231105T070000
END:STANDARD
BEGIN:DAYLIGHT
TZOFFSETFROM:-0600
TZOFFSETTO:-0500
TZNAME:CDT
DTSTART:20240310T080000
END:DAYLIGHT
BEGIN:STANDARD
TZOFFSETFROM:-0500
TZOFFSETTO:-0600
TZNAME:CST
DTSTART:20241103T070000
END:STANDARD
BEGIN:DAYLIGHT
TZOFFSETFROM:-0600
TZOFFSETTO:-0500
TZNAME:CDT
DTSTART:20250309T080000
END:DAYLIGHT
BEGIN:STANDARD
TZOFFSETFROM:-0500
TZOFFSETTO:-0600
TZNAME:CST
DTSTART:20251102T070000
END:STANDARD
BEGIN:DAYLIGHT
TZOFFSETFROM:-0600
TZOFFSETTO:-0500
TZNAME:CDT
DTSTART:20260308T080000
END:DAYLIGHT
BEGIN:STANDARD
TZOFFSETFROM:-0500
TZOFFSETTO:-0600
TZNAME:CST
DTSTART:20261101T070000
END:STANDARD
END:VTIMEZONE
BEGIN:VTIMEZONE
TZID:UTC
BEGIN:STANDARD
TZOFFSETFROM:+0000
TZOFFSETTO:+0000
TZNAME:UTC
DTSTART:20220101T000000
END:STANDARD
END:VTIMEZONE
BEGIN:VEVENT
DTSTART;VALUE=DATE:20230530
DTEND;VALUE=DATE:20230531
DTSTAMP:20260422T211103
CREATED:20230101T233924Z
LAST-MODIFIED:20230101T233924Z
UID:311-1685404800-1685491199@camdendistrict.com
SUMMARY:Economic Summit Dainel Payne
DESCRIPTION:
URL:https://camdendistrict.com/event/economic-summit-dainel-payne/
END:VEVENT
BEGIN:VEVENT
DTSTART;VALUE=DATE:20230528
DTEND;VALUE=DATE:20230529
DTSTAMP:20260422T211103
CREATED:20230101T233909Z
LAST-MODIFIED:20230101T233909Z
UID:309-1685232000-1685318399@camdendistrict.com
SUMMARY:Pentecost Scattered
DESCRIPTION:
URL:https://camdendistrict.com/event/pentecost-scattered/
END:VEVENT
BEGIN:VEVENT
DTSTART;TZID=America/Chicago:20230520T080000
DTEND;TZID=America/Chicago:20230520T170000
DTSTAMP:20260422T211103
CREATED:20230101T233855Z
LAST-MODIFIED:20230101T233855Z
UID:307-1684569600-1684602000@camdendistrict.com
SUMMARY:NTG Clergy Institute
DESCRIPTION:
URL:https://camdendistrict.com/event/ntg-clergy-institute-2/
END:VEVENT
BEGIN:VEVENT
DTSTART;VALUE=DATE:20230514
DTEND;VALUE=DATE:20230515
DTSTAMP:20260422T211103
CREATED:20230101T233821Z
LAST-MODIFIED:20230101T233821Z
UID:305-1684022400-1684108799@camdendistrict.com
SUMMARY:Mothers Day
DESCRIPTION:
URL:https://camdendistrict.com/event/mothers-day/
END:VEVENT
BEGIN:VEVENT
DTSTART;VALUE=DATE:20230504
DTEND;VALUE=DATE:20230505
DTSTAMP:20260422T211103
CREATED:20230101T233759Z
LAST-MODIFIED:20230101T233759Z
UID:303-1683158400-1683244799@camdendistrict.com
SUMMARY:Camden District Revival
DESCRIPTION:
URL:https://camdendistrict.com/event/camden-district-revival/
END:VEVENT
BEGIN:VEVENT
DTSTART;TZID=America/Chicago:20230501T200000
DTEND;TZID=America/Chicago:20230501T210000
DTSTAMP:20260422T211103
CREATED:20230101T233659Z
LAST-MODIFIED:20230101T233659Z
UID:301-1682971200-1682974800@camdendistrict.com
SUMMARY:Meeting with pastors
DESCRIPTION:
URL:https://camdendistrict.com/event/meeting-with-pastors-5/
END:VEVENT
BEGIN:VEVENT
DTSTART;VALUE=DATE:20230430
DTEND;VALUE=DATE:20230501
DTSTAMP:20260422T211103
CREATED:20230101T231520Z
LAST-MODIFIED:20230101T231520Z
UID:245-1682812800-1682899199@camdendistrict.com
SUMMARY:Southwest Lay meeting
DESCRIPTION:
URL:https://camdendistrict.com/event/southwest-lay-meeting/
END:VEVENT
BEGIN:VEVENT
DTSTART;VALUE=DATE:20230409
DTEND;VALUE=DATE:20230410
DTSTAMP:20260422T211103
CREATED:20230101T231459Z
LAST-MODIFIED:20230101T231459Z
UID:243-1680998400-1681084799@camdendistrict.com
SUMMARY:Easter
DESCRIPTION:
URL:https://camdendistrict.com/event/easter/
END:VEVENT
BEGIN:VEVENT
DTSTART;VALUE=DATE:20230407
DTEND;VALUE=DATE:20230408
DTSTAMP:20260422T211103
CREATED:20230101T231442Z
LAST-MODIFIED:20230101T231442Z
UID:241-1680825600-1680911999@camdendistrict.com
SUMMARY:Good Friday
DESCRIPTION:
URL:https://camdendistrict.com/event/good-friday/
END:VEVENT
BEGIN:VEVENT
DTSTART;VALUE=DATE:20230403
DTEND;VALUE=DATE:20230404
DTSTAMP:20260422T211103
CREATED:20230101T231427Z
LAST-MODIFIED:20230101T231427Z
UID:239-1680480000-1680566399@camdendistrict.com
SUMMARY:Meeting with Pastors
DESCRIPTION:
URL:https://camdendistrict.com/event/meeting-with-pastors/
END:VEVENT
BEGIN:VEVENT
DTSTART;VALUE=DATE:20230402
DTEND;VALUE=DATE:20230403
DTSTAMP:20260422T211103
CREATED:20230102T051329Z
LAST-MODIFIED:20230102T051329Z
UID:237-1680393600-1680479999@camdendistrict.com
SUMMARY:Palm Sunday
DESCRIPTION:
URL:https://camdendistrict.com/event/palm-sunday/
END:VEVENT
BEGIN:VEVENT
DTSTART;VALUE=DATE:20230401
DTEND;VALUE=DATE:20230402
DTSTAMP:20260422T211103
CREATED:20230102T051255Z
LAST-MODIFIED:20230102T051300Z
UID:235-1680307200-1680393599@camdendistrict.com
SUMMARY:Mid - Year Convocation
DESCRIPTION:
URL:https://camdendistrict.com/event/mid-year-convocation/
END:VEVENT
BEGIN:VEVENT
DTSTART;VALUE=DATE:20230330
DTEND;VALUE=DATE:20230331
DTSTAMP:20260422T211103
CREATED:20230101T233633Z
LAST-MODIFIED:20230101T233633Z
UID:299-1680134400-1680220799@camdendistrict.com
SUMMARY:Mid -Year Convocation
DESCRIPTION:
URL:https://camdendistrict.com/event/mid-year-convocation-2/
END:VEVENT
BEGIN:VEVENT
DTSTART;VALUE=DATE:20230325
DTEND;VALUE=DATE:20230326
DTSTAMP:20260422T211103
CREATED:20230101T233620Z
LAST-MODIFIED:20230101T233620Z
UID:297-1679702400-1679788799@camdendistrict.com
SUMMARY:NTG Clergy Institute
DESCRIPTION:
URL:https://camdendistrict.com/event/ntg-clergy-institute/
END:VEVENT
BEGIN:VEVENT
DTSTART;VALUE=DATE:20230316
DTEND;VALUE=DATE:20230317
DTSTAMP:20260422T211103
CREATED:20230101T233606Z
LAST-MODIFIED:20230101T233606Z
UID:295-1678924800-1679011199@camdendistrict.com
SUMMARY:Bishop Seawright Birthday
DESCRIPTION:
URL:https://camdendistrict.com/event/bishop-seawright-birthday/
END:VEVENT
BEGIN:VEVENT
DTSTART;VALUE=DATE:20230312
DTEND;VALUE=DATE:20230313
DTSTAMP:20260422T211103
CREATED:20230101T233553Z
LAST-MODIFIED:20230101T233553Z
UID:293-1678579200-1678665599@camdendistrict.com
SUMMARY:Daylight Saving Time
DESCRIPTION:
URL:https://camdendistrict.com/event/daylight-saving-time/
END:VEVENT
BEGIN:VEVENT
DTSTART;TZID=America/Chicago:20230311T093000
DTEND;TZID=America/Chicago:20230311T170000
DTSTAMP:20260422T211103
CREATED:20230101T233536Z
LAST-MODIFIED:20230101T233536Z
UID:291-1678527000-1678554000@camdendistrict.com
SUMMARY:Camden District Conference
DESCRIPTION:
URL:https://camdendistrict.com/event/camden-district-conference/
END:VEVENT
BEGIN:VEVENT
DTSTART;TZID=America/Chicago:20230306T200000
DTEND;TZID=America/Chicago:20230306T210000
DTSTAMP:20260422T211103
CREATED:20230101T233507Z
LAST-MODIFIED:20230101T233507Z
UID:289-1678132800-1678136400@camdendistrict.com
SUMMARY:Meeting with Pastors
DESCRIPTION:
URL:https://camdendistrict.com/event/meeting-with-pastors-4/
END:VEVENT
BEGIN:VEVENT
DTSTART;VALUE=DATE:20230305
DTEND;VALUE=DATE:20230306
DTSTAMP:20260422T211103
CREATED:20230101T233436Z
LAST-MODIFIED:20230101T233436Z
UID:287-1677974400-1678060799@camdendistrict.com
SUMMARY:Bloody Sunday
DESCRIPTION:
URL:https://camdendistrict.com/event/bloody-sunday/
END:VEVENT
BEGIN:VEVENT
DTSTART;VALUE=DATE:20230227
DTEND;VALUE=DATE:20230228
DTSTAMP:20260422T211103
CREATED:20230102T051151Z
LAST-MODIFIED:20230102T051151Z
UID:233-1677456000-1677542399@camdendistrict.com
SUMMARY:Mid- year Assessment Due
DESCRIPTION:
URL:https://camdendistrict.com/event/mid-year-assessment-due/
END:VEVENT
BEGIN:VEVENT
DTSTART;VALUE=DATE:20230225
DTEND;VALUE=DATE:20230226
DTSTAMP:20260422T211103
CREATED:20230102T051108Z
LAST-MODIFIED:20230102T051108Z
UID:231-1677283200-1677369599@camdendistrict.com
SUMMARY:YPD- LTI
DESCRIPTION:
URL:https://camdendistrict.com/event/ypd-lti/
END:VEVENT
BEGIN:VEVENT
DTSTART;TZID=UTC:20230206T200000
DTEND;TZID=UTC:20230206T210000
DTSTAMP:20260422T211103
CREATED:20230102T051013Z
LAST-MODIFIED:20230102T051013Z
UID:229-1675713600-1675717200@camdendistrict.com
SUMMARY:Monthly Meeting with pastors
DESCRIPTION:
URL:https://camdendistrict.com/event/monthly-meeting-with-pastors/
END:VEVENT
BEGIN:VEVENT
DTSTART;VALUE=DATE:20230205
DTEND;VALUE=DATE:20230206
DTSTAMP:20260422T211103
CREATED:20230102T050855Z
LAST-MODIFIED:20230102T051031Z
UID:227-1675555200-1675641599@camdendistrict.com
SUMMARY:9th District CEC Training
DESCRIPTION:
URL:https://camdendistrict.com/event/9th-district-cec-training/
END:VEVENT
BEGIN:VEVENT
DTSTART;VALUE=DATE:20230129
DTEND;VALUE=DATE:20230130
DTSTAMP:20260422T211103
CREATED:20230101T233423Z
LAST-MODIFIED:20230101T233423Z
UID:285-1674950400-1675036799@camdendistrict.com
SUMMARY:5th Sunday’s RAYAC local Church Day
DESCRIPTION:
URL:https://camdendistrict.com/event/5th-sundays-rayac-local-church-day/
END:VEVENT
BEGIN:VEVENT
DTSTART;VALUE=DATE:20230120
DTEND;VALUE=DATE:20250121
DTSTAMP:20260422T211103
CREATED:20230101T233332Z
LAST-MODIFIED:20250105T002340Z
UID:279-1674172800-1737417599@camdendistrict.com
SUMMARY:MLK DAY
DESCRIPTION:
URL:https://camdendistrict.com/event/mlk-day/
END:VEVENT
BEGIN:VEVENT
DTSTART;VALUE=DATE:20230101
DTEND;VALUE=DATE:20230102
DTSTAMP:20260422T211103
CREATED:20230101T233304Z
LAST-MODIFIED:20230101T233304Z
UID:275-1672531200-1672617599@camdendistrict.com
SUMMARY:Happy New Year
DESCRIPTION:
URL:https://camdendistrict.com/event/happy-new-year/
END:VEVENT
END:VCALENDAR