BEGIN:VCALENDAR
VERSION:2.0
PRODID:-//Camden District AME - ECPv6.15.18//NONSGML v1.0//EN
CALSCALE:GREGORIAN
METHOD:PUBLISH
X-WR-CALNAME:Camden District AME
X-ORIGINAL-URL:https://camdendistrict.com
X-WR-CALDESC:Events for Camden District AME
REFRESH-INTERVAL;VALUE=DURATION:PT1H
X-Robots-Tag:noindex
X-PUBLISHED-TTL:PT1H
BEGIN:VTIMEZONE
TZID:America/Chicago
BEGIN:DAYLIGHT
TZOFFSETFROM:-0600
TZOFFSETTO:-0500
TZNAME:CDT
DTSTART:20220313T080000
END:DAYLIGHT
BEGIN:STANDARD
TZOFFSETFROM:-0500
TZOFFSETTO:-0600
TZNAME:CST
DTSTART:20221106T070000
END:STANDARD
BEGIN:DAYLIGHT
TZOFFSETFROM:-0600
TZOFFSETTO:-0500
TZNAME:CDT
DTSTART:20230312T080000
END:DAYLIGHT
BEGIN:STANDARD
TZOFFSETFROM:-0500
TZOFFSETTO:-0600
TZNAME:CST
DTSTART:20231105T070000
END:STANDARD
BEGIN:DAYLIGHT
TZOFFSETFROM:-0600
TZOFFSETTO:-0500
TZNAME:CDT
DTSTART:20240310T080000
END:DAYLIGHT
BEGIN:STANDARD
TZOFFSETFROM:-0500
TZOFFSETTO:-0600
TZNAME:CST
DTSTART:20241103T070000
END:STANDARD
END:VTIMEZONE
BEGIN:VTIMEZONE
TZID:UTC
BEGIN:STANDARD
TZOFFSETFROM:+0000
TZOFFSETTO:+0000
TZNAME:UTC
DTSTART:20220101T000000
END:STANDARD
END:VTIMEZONE
BEGIN:VEVENT
DTSTART;TZID=America/Chicago:20230905T200000
DTEND;TZID=America/Chicago:20230905T210000
DTSTAMP:20260422T172446
CREATED:20230101T234333Z
LAST-MODIFIED:20230101T234333Z
UID:331-1693944000-1693947600@camdendistrict.com
SUMMARY:Meeting with Pastors
DESCRIPTION:
URL:https://camdendistrict.com/event/meeting-with-pastors-7/
END:VEVENT
BEGIN:VEVENT
DTSTART;VALUE=DATE:20230904
DTEND;VALUE=DATE:20230905
DTSTAMP:20260422T172446
CREATED:20230101T234303Z
LAST-MODIFIED:20230101T234303Z
UID:329-1693785600-1693871999@camdendistrict.com
SUMMARY:Labor Day
DESCRIPTION:
URL:https://camdendistrict.com/event/labor-day/
END:VEVENT
BEGIN:VEVENT
DTSTART;VALUE=DATE:20230823
DTEND;VALUE=DATE:20230824
DTSTAMP:20260422T172446
CREATED:20230101T233247Z
LAST-MODIFIED:20230101T233247Z
UID:273-1692748800-1692835199@camdendistrict.com
SUMMARY:ARR Annual Conference
DESCRIPTION:
URL:https://camdendistrict.com/event/arr-annual-conference/
END:VEVENT
BEGIN:VEVENT
DTSTART;VALUE=DATE:20230812
DTEND;VALUE=DATE:20230813
DTSTAMP:20260422T172446
CREATED:20230101T233226Z
LAST-MODIFIED:20230101T233226Z
UID:271-1691798400-1691884799@camdendistrict.com
SUMMARY:Camden District Harvest Home
DESCRIPTION:
URL:https://camdendistrict.com/event/camden-district-harvest-home/
END:VEVENT
BEGIN:VEVENT
DTSTART;TZID=America/Chicago:20230807T200000
DTEND;TZID=America/Chicago:20230807T210000
DTSTAMP:20260422T172446
CREATED:20230101T233201Z
LAST-MODIFIED:20230101T233201Z
UID:269-1691438400-1691442000@camdendistrict.com
SUMMARY:Meeting with Pastors
DESCRIPTION:
URL:https://camdendistrict.com/event/meeting-with-pastors-3/
END:VEVENT
BEGIN:VEVENT
DTSTART;VALUE=DATE:20230804
DTEND;VALUE=DATE:20230805
DTSTAMP:20260422T172446
CREATED:20230101T233138Z
LAST-MODIFIED:20230101T233138Z
UID:267-1691107200-1691193599@camdendistrict.com
SUMMARY:Annual Conference Assessment Due
DESCRIPTION:
URL:https://camdendistrict.com/event/annual-conference-assessment-due/
END:VEVENT
BEGIN:VEVENT
DTSTART;VALUE=DATE:20230730
DTEND;VALUE=DATE:20230731
DTSTAMP:20260422T172446
CREATED:20230101T234227Z
LAST-MODIFIED:20230101T234227Z
UID:327-1690675200-1690761599@camdendistrict.com
SUMMARY:SW Law meeting
DESCRIPTION:
URL:https://camdendistrict.com/event/sw-law-meeting/
END:VEVENT
BEGIN:VEVENT
DTSTART;VALUE=DATE:20230730
DTEND;VALUE=DATE:20230731
DTSTAMP:20260422T172446
CREATED:20230101T234202Z
LAST-MODIFIED:20230101T234202Z
UID:325-1690675200-1690761599@camdendistrict.com
SUMMARY:WMS Quadrennial
DESCRIPTION:
URL:https://camdendistrict.com/event/wms-quadrennial/
END:VEVENT
BEGIN:VEVENT
DTSTART;VALUE=DATE:20230725
DTEND;VALUE=DATE:20230726
DTSTAMP:20260422T172446
CREATED:20230101T234139Z
LAST-MODIFIED:20230101T234139Z
UID:323-1690243200-1690329599@camdendistrict.com
SUMMARY:YPD Quadrennial
DESCRIPTION:
URL:https://camdendistrict.com/event/ypd-quadrennial/
END:VEVENT
BEGIN:VEVENT
DTSTART;VALUE=DATE:20230719
DTEND;VALUE=DATE:20230720
DTSTAMP:20260422T172446
CREATED:20230101T234116Z
LAST-MODIFIED:20230101T234116Z
UID:321-1689724800-1689811199@camdendistrict.com
SUMMARY:Supervisors Birthday Rev. Seawright
DESCRIPTION:
URL:https://camdendistrict.com/event/supervisors-birthday-rev-seawright/
END:VEVENT
BEGIN:VEVENT
DTSTART;VALUE=DATE:20230710
DTEND;VALUE=DATE:20230713
DTSTAMP:20260422T172446
CREATED:20230101T234045Z
LAST-MODIFIED:20230515T142808Z
UID:319-1688947200-1689206399@camdendistrict.com
SUMMARY:CEC Troy
DESCRIPTION:
URL:https://camdendistrict.com/event/cec-troy/
END:VEVENT
BEGIN:VEVENT
DTSTART;VALUE=DATE:20230704
DTEND;VALUE=DATE:20230705
DTSTAMP:20260422T172446
CREATED:20230101T234026Z
LAST-MODIFIED:20230101T234026Z
UID:317-1688428800-1688515199@camdendistrict.com
SUMMARY:Independent Day
DESCRIPTION:
URL:https://camdendistrict.com/event/independent-day/
END:VEVENT
BEGIN:VEVENT
DTSTART;TZID=America/Chicago:20230703T200000
DTEND;TZID=America/Chicago:20230703T210000
DTSTAMP:20260422T172446
CREATED:20230101T234008Z
LAST-MODIFIED:20230101T234008Z
UID:315-1688414400-1688418000@camdendistrict.com
SUMMARY:Meeting with Pastors
DESCRIPTION:
URL:https://camdendistrict.com/event/meeting-with-pastors-6/
END:VEVENT
BEGIN:VEVENT
DTSTART;VALUE=DATE:20230628
DTEND;VALUE=DATE:20230629
DTSTAMP:20260422T172446
CREATED:20230101T233116Z
LAST-MODIFIED:20230101T233116Z
UID:265-1687910400-1687996799@camdendistrict.com
SUMMARY:Elders Birthday Antonio Thomas
DESCRIPTION:
URL:https://camdendistrict.com/event/elders-birthday-antonio-thomas/
END:VEVENT
BEGIN:VEVENT
DTSTART;VALUE=DATE:20230618
DTEND;VALUE=DATE:20230619
DTSTAMP:20260422T172446
CREATED:20230101T233059Z
LAST-MODIFIED:20230101T233059Z
UID:263-1687046400-1687132799@camdendistrict.com
SUMMARY:Father’s Day
DESCRIPTION:
URL:https://camdendistrict.com/event/fathers-day/
END:VEVENT
BEGIN:VEVENT
DTSTART;VALUE=DATE:20230609
DTEND;VALUE=DATE:20230610
DTSTAMP:20260422T172446
CREATED:20230101T233039Z
LAST-MODIFIED:20230101T233039Z
UID:261-1686268800-1686355199@camdendistrict.com
SUMMARY:Church School Camden District
DESCRIPTION:
URL:https://camdendistrict.com/event/church-school-camden-district/
END:VEVENT
BEGIN:VEVENT
DTSTART;TZID=America/Chicago:20230605T200000
DTEND;TZID=America/Chicago:20230605T210000
DTSTAMP:20260422T172446
CREATED:20230101T232943Z
LAST-MODIFIED:20230101T233009Z
UID:259-1685995200-1685998800@camdendistrict.com
SUMMARY:Meeting with Pastors
DESCRIPTION:
URL:https://camdendistrict.com/event/meeting-with-pastors-2/
END:VEVENT
BEGIN:VEVENT
DTSTART;VALUE=DATE:20230531
DTEND;VALUE=DATE:20230601
DTSTAMP:20260422T172446
CREATED:20230101T233940Z
LAST-MODIFIED:20230101T233940Z
UID:313-1685491200-1685577599@camdendistrict.com
SUMMARY:C. E. C. Budget Due
DESCRIPTION:
URL:https://camdendistrict.com/event/c-e-c-budget-due/
END:VEVENT
BEGIN:VEVENT
DTSTART;VALUE=DATE:20230530
DTEND;VALUE=DATE:20230531
DTSTAMP:20260422T172446
CREATED:20230101T233924Z
LAST-MODIFIED:20230101T233924Z
UID:311-1685404800-1685491199@camdendistrict.com
SUMMARY:Economic Summit Dainel Payne
DESCRIPTION:
URL:https://camdendistrict.com/event/economic-summit-dainel-payne/
END:VEVENT
BEGIN:VEVENT
DTSTART;VALUE=DATE:20230528
DTEND;VALUE=DATE:20230529
DTSTAMP:20260422T172446
CREATED:20230101T233909Z
LAST-MODIFIED:20230101T233909Z
UID:309-1685232000-1685318399@camdendistrict.com
SUMMARY:Pentecost Scattered
DESCRIPTION:
URL:https://camdendistrict.com/event/pentecost-scattered/
END:VEVENT
BEGIN:VEVENT
DTSTART;TZID=America/Chicago:20230520T080000
DTEND;TZID=America/Chicago:20230520T170000
DTSTAMP:20260422T172446
CREATED:20230101T233855Z
LAST-MODIFIED:20230101T233855Z
UID:307-1684569600-1684602000@camdendistrict.com
SUMMARY:NTG Clergy Institute
DESCRIPTION:
URL:https://camdendistrict.com/event/ntg-clergy-institute-2/
END:VEVENT
BEGIN:VEVENT
DTSTART;VALUE=DATE:20230514
DTEND;VALUE=DATE:20230515
DTSTAMP:20260422T172446
CREATED:20230101T233821Z
LAST-MODIFIED:20230101T233821Z
UID:305-1684022400-1684108799@camdendistrict.com
SUMMARY:Mothers Day
DESCRIPTION:
URL:https://camdendistrict.com/event/mothers-day/
END:VEVENT
BEGIN:VEVENT
DTSTART;VALUE=DATE:20230504
DTEND;VALUE=DATE:20230505
DTSTAMP:20260422T172446
CREATED:20230101T233759Z
LAST-MODIFIED:20230101T233759Z
UID:303-1683158400-1683244799@camdendistrict.com
SUMMARY:Camden District Revival
DESCRIPTION:
URL:https://camdendistrict.com/event/camden-district-revival/
END:VEVENT
BEGIN:VEVENT
DTSTART;TZID=America/Chicago:20230501T200000
DTEND;TZID=America/Chicago:20230501T210000
DTSTAMP:20260422T172446
CREATED:20230101T233659Z
LAST-MODIFIED:20230101T233659Z
UID:301-1682971200-1682974800@camdendistrict.com
SUMMARY:Meeting with pastors
DESCRIPTION:
URL:https://camdendistrict.com/event/meeting-with-pastors-5/
END:VEVENT
BEGIN:VEVENT
DTSTART;VALUE=DATE:20230430
DTEND;VALUE=DATE:20230501
DTSTAMP:20260422T172446
CREATED:20230101T231520Z
LAST-MODIFIED:20230101T231520Z
UID:245-1682812800-1682899199@camdendistrict.com
SUMMARY:Southwest Lay meeting
DESCRIPTION:
URL:https://camdendistrict.com/event/southwest-lay-meeting/
END:VEVENT
BEGIN:VEVENT
DTSTART;VALUE=DATE:20230409
DTEND;VALUE=DATE:20230410
DTSTAMP:20260422T172446
CREATED:20230101T231459Z
LAST-MODIFIED:20230101T231459Z
UID:243-1680998400-1681084799@camdendistrict.com
SUMMARY:Easter
DESCRIPTION:
URL:https://camdendistrict.com/event/easter/
END:VEVENT
BEGIN:VEVENT
DTSTART;VALUE=DATE:20230407
DTEND;VALUE=DATE:20230408
DTSTAMP:20260422T172446
CREATED:20230101T231442Z
LAST-MODIFIED:20230101T231442Z
UID:241-1680825600-1680911999@camdendistrict.com
SUMMARY:Good Friday
DESCRIPTION:
URL:https://camdendistrict.com/event/good-friday/
END:VEVENT
BEGIN:VEVENT
DTSTART;VALUE=DATE:20230403
DTEND;VALUE=DATE:20230404
DTSTAMP:20260422T172446
CREATED:20230101T231427Z
LAST-MODIFIED:20230101T231427Z
UID:239-1680480000-1680566399@camdendistrict.com
SUMMARY:Meeting with Pastors
DESCRIPTION:
URL:https://camdendistrict.com/event/meeting-with-pastors/
END:VEVENT
BEGIN:VEVENT
DTSTART;VALUE=DATE:20230402
DTEND;VALUE=DATE:20230403
DTSTAMP:20260422T172446
CREATED:20230102T051329Z
LAST-MODIFIED:20230102T051329Z
UID:237-1680393600-1680479999@camdendistrict.com
SUMMARY:Palm Sunday
DESCRIPTION:
URL:https://camdendistrict.com/event/palm-sunday/
END:VEVENT
BEGIN:VEVENT
DTSTART;VALUE=DATE:20230401
DTEND;VALUE=DATE:20230402
DTSTAMP:20260422T172446
CREATED:20230102T051255Z
LAST-MODIFIED:20230102T051300Z
UID:235-1680307200-1680393599@camdendistrict.com
SUMMARY:Mid - Year Convocation
DESCRIPTION:
URL:https://camdendistrict.com/event/mid-year-convocation/
END:VEVENT
END:VCALENDAR