BEGIN:VCALENDAR
VERSION:2.0
PRODID:-//Camden District AME - ECPv6.15.18//NONSGML v1.0//EN
CALSCALE:GREGORIAN
METHOD:PUBLISH
X-ORIGINAL-URL:https://camdendistrict.com
X-WR-CALDESC:Events for Camden District AME
REFRESH-INTERVAL;VALUE=DURATION:PT1H
X-Robots-Tag:noindex
X-PUBLISHED-TTL:PT1H
BEGIN:VTIMEZONE
TZID:America/Chicago
BEGIN:DAYLIGHT
TZOFFSETFROM:-0600
TZOFFSETTO:-0500
TZNAME:CDT
DTSTART:20220313T080000
END:DAYLIGHT
BEGIN:STANDARD
TZOFFSETFROM:-0500
TZOFFSETTO:-0600
TZNAME:CST
DTSTART:20221106T070000
END:STANDARD
BEGIN:DAYLIGHT
TZOFFSETFROM:-0600
TZOFFSETTO:-0500
TZNAME:CDT
DTSTART:20230312T080000
END:DAYLIGHT
BEGIN:STANDARD
TZOFFSETFROM:-0500
TZOFFSETTO:-0600
TZNAME:CST
DTSTART:20231105T070000
END:STANDARD
BEGIN:DAYLIGHT
TZOFFSETFROM:-0600
TZOFFSETTO:-0500
TZNAME:CDT
DTSTART:20240310T080000
END:DAYLIGHT
BEGIN:STANDARD
TZOFFSETFROM:-0500
TZOFFSETTO:-0600
TZNAME:CST
DTSTART:20241103T070000
END:STANDARD
BEGIN:DAYLIGHT
TZOFFSETFROM:-0600
TZOFFSETTO:-0500
TZNAME:CDT
DTSTART:20250309T080000
END:DAYLIGHT
BEGIN:STANDARD
TZOFFSETFROM:-0500
TZOFFSETTO:-0600
TZNAME:CST
DTSTART:20251102T070000
END:STANDARD
BEGIN:DAYLIGHT
TZOFFSETFROM:-0600
TZOFFSETTO:-0500
TZNAME:CDT
DTSTART:20260308T080000
END:DAYLIGHT
BEGIN:STANDARD
TZOFFSETFROM:-0500
TZOFFSETTO:-0600
TZNAME:CST
DTSTART:20261101T070000
END:STANDARD
END:VTIMEZONE
BEGIN:VEVENT
DTSTART;TZID=America/Chicago:20250217T190000
DTEND;TZID=America/Chicago:20250217T210000
DTSTAMP:20260422T113329
CREATED:20250105T002849Z
LAST-MODIFIED:20250105T002849Z
UID:761-1739818800-1739826000@camdendistrict.com
SUMMARY:RAYACT Call
DESCRIPTION:
URL:https://camdendistrict.com/event/rayact-call/
END:VEVENT
BEGIN:VEVENT
DTSTART;VALUE=DATE:20250214
DTEND;VALUE=DATE:20250215
DTSTAMP:20260422T113329
CREATED:20250105T002823Z
LAST-MODIFIED:20250105T002823Z
UID:759-1739491200-1739577599@camdendistrict.com
SUMMARY:Valentine's Day
DESCRIPTION:
URL:https://camdendistrict.com/event/valentines-day/
END:VEVENT
BEGIN:VEVENT
DTSTART;VALUE=DATE:20250212
DTEND;VALUE=DATE:20250213
DTSTAMP:20260422T113329
CREATED:20250105T002805Z
LAST-MODIFIED:20250105T002805Z
UID:757-1739318400-1739404799@camdendistrict.com
SUMMARY:Founders Day AMEC
DESCRIPTION:
URL:https://camdendistrict.com/event/founders-day-amec/
END:VEVENT
BEGIN:VEVENT
DTSTART;TZID=America/Chicago:20250210T190000
DTEND;TZID=America/Chicago:20250210T210000
DTSTAMP:20260422T113329
CREATED:20250105T002745Z
LAST-MODIFIED:20250105T002745Z
UID:755-1739214000-1739221200@camdendistrict.com
SUMMARY:Clergy Meet 2nd Qtr
DESCRIPTION:
URL:https://camdendistrict.com/event/clergy-meet-2nd-qtr/
END:VEVENT
BEGIN:VEVENT
DTSTART;VALUE=DATE:20250209
DTEND;VALUE=DATE:20250210
DTSTAMP:20260422T113329
CREATED:20250105T002716Z
LAST-MODIFIED:20250105T002716Z
UID:753-1739059200-1739145599@camdendistrict.com
SUMMARY:Super Bowl Caring
DESCRIPTION:
URL:https://camdendistrict.com/event/super-bowl-caring/
END:VEVENT
BEGIN:VEVENT
DTSTART;VALUE=DATE:20250208
DTEND;VALUE=DATE:20250209
DTSTAMP:20260422T113329
CREATED:20250105T003622Z
LAST-MODIFIED:20250105T003622Z
UID:800-1738972800-1739059199@camdendistrict.com
SUMMARY:9th District Founder's Day Symposium
DESCRIPTION:
URL:https://camdendistrict.com/event/9th-district-founders-day-symposium/
END:VEVENT
BEGIN:VEVENT
DTSTART;VALUE=DATE:20250201
DTEND;VALUE=DATE:20250202
DTSTAMP:20260422T113329
CREATED:20250105T002611Z
LAST-MODIFIED:20250105T002611Z
UID:750-1738368000-1738454399@camdendistrict.com
SUMMARY:CDMC Orientation
DESCRIPTION:
URL:https://camdendistrict.com/event/cdmc-orientation/
END:VEVENT
BEGIN:VEVENT
DTSTART;VALUE=DATE:20250127
DTEND;VALUE=DATE:20250128
DTSTAMP:20260422T113329
CREATED:20230101T233404Z
LAST-MODIFIED:20250105T002528Z
UID:283-1737936000-1738022399@camdendistrict.com
SUMMARY:Steward Meeting
DESCRIPTION:
URL:https://camdendistrict.com/event/steward-meeting/
END:VEVENT
BEGIN:VEVENT
DTSTART;VALUE=DATE:20250122
DTEND;VALUE=DATE:20250123
DTSTAMP:20260422T113329
CREATED:20230101T233346Z
LAST-MODIFIED:20250105T002429Z
UID:281-1737504000-1737590399@camdendistrict.com
SUMMARY:WMS Board Meeting
DESCRIPTION:
URL:https://camdendistrict.com/event/wms-board-meeting/
END:VEVENT
BEGIN:VEVENT
DTSTART;VALUE=DATE:20250120
DTEND;VALUE=DATE:20250121
DTSTAMP:20260422T113329
CREATED:20250105T003605Z
LAST-MODIFIED:20250105T003605Z
UID:798-1737331200-1737417599@camdendistrict.com
SUMMARY:MLK Day
DESCRIPTION:
URL:https://camdendistrict.com/event/mlk-day-2/
END:VEVENT
BEGIN:VEVENT
DTSTART;VALUE=DATE:20250117
DTEND;VALUE=DATE:20250118
DTSTAMP:20260422T113329
CREATED:20250105T002312Z
LAST-MODIFIED:20250105T002312Z
UID:746-1737072000-1737158399@camdendistrict.com
SUMMARY:Founders Day Budget Due
DESCRIPTION:
URL:https://camdendistrict.com/event/founders-day-budget-due/
END:VEVENT
BEGIN:VEVENT
DTSTART;TZID=America/Chicago:20250106T190000
DTEND;TZID=America/Chicago:20250106T210000
DTSTAMP:20260422T113329
CREATED:20230101T233321Z
LAST-MODIFIED:20250105T002227Z
UID:277-1736190000-1736197200@camdendistrict.com
SUMMARY:Clergy Meet
DESCRIPTION:
URL:https://camdendistrict.com/event/clergy-meet/
END:VEVENT
BEGIN:VEVENT
DTSTART;VALUE=DATE:20231111
DTEND;VALUE=DATE:20231112
DTSTAMP:20260422T113329
CREATED:20230101T234912Z
LAST-MODIFIED:20230101T234912Z
UID:361-1699660800-1699747199@camdendistrict.com
SUMMARY:Camden District planning Meeting
DESCRIPTION:
URL:https://camdendistrict.com/event/camden-district-planning-meeting/
END:VEVENT
BEGIN:VEVENT
DTSTART;TZID=America/Chicago:20231106T200000
DTEND;TZID=America/Chicago:20231106T210000
DTSTAMP:20260422T113329
CREATED:20230101T234854Z
LAST-MODIFIED:20230101T234854Z
UID:359-1699300800-1699304400@camdendistrict.com
SUMMARY:Meeting with Pastors
DESCRIPTION:
URL:https://camdendistrict.com/event/meeting-with-pastors-10/
END:VEVENT
BEGIN:VEVENT
DTSTART;VALUE=DATE:20231105
DTEND;VALUE=DATE:20231106
DTSTAMP:20260422T113329
CREATED:20230101T234816Z
LAST-MODIFIED:20230101T234816Z
UID:357-1699142400-1699228799@camdendistrict.com
SUMMARY:Daylight Saving time ends
DESCRIPTION:
URL:https://camdendistrict.com/event/daylight-saving-time-ends/
END:VEVENT
BEGIN:VEVENT
DTSTART;VALUE=DATE:20231102
DTEND;VALUE=DATE:20231103
DTSTAMP:20260422T113329
CREATED:20230101T234752Z
LAST-MODIFIED:20230101T234752Z
UID:355-1698883200-1698969599@camdendistrict.com
SUMMARY:9th District Planning Meeting
DESCRIPTION:
URL:https://camdendistrict.com/event/9th-district-planning-meeting/
END:VEVENT
BEGIN:VEVENT
DTSTART;VALUE=DATE:20231029
DTEND;VALUE=DATE:20231030
DTSTAMP:20260422T113329
CREATED:20230101T234733Z
LAST-MODIFIED:20230101T234733Z
UID:353-1698537600-1698623999@camdendistrict.com
SUMMARY:Lay Meeting
DESCRIPTION:
URL:https://camdendistrict.com/event/lay-meeting/
END:VEVENT
BEGIN:VEVENT
DTSTART;VALUE=DATE:20231023
DTEND;VALUE=DATE:20231024
DTSTAMP:20260422T113329
CREATED:20230101T234717Z
LAST-MODIFIED:20230101T234717Z
UID:351-1698019200-1698105599@camdendistrict.com
SUMMARY:PLANNING MEETING ASSIGNMENT DUE
DESCRIPTION:
URL:https://camdendistrict.com/event/planning-meeting-assignment-due/
END:VEVENT
BEGIN:VEVENT
DTSTART;TZID=America/Chicago:20231018T080000
DTEND;TZID=America/Chicago:20231018T170000
DTSTAMP:20260422T113329
CREATED:20230101T234701Z
LAST-MODIFIED:20230101T234701Z
UID:349-1697616000-1697648400@camdendistrict.com
SUMMARY:SOUTHWEST ANNUAL CONFERENCE
DESCRIPTION:
URL:https://camdendistrict.com/event/southwest-annual-conference/
END:VEVENT
BEGIN:VEVENT
DTSTART;VALUE=DATE:20231014
DTEND;VALUE=DATE:20231015
DTSTAMP:20260422T113329
CREATED:20230101T234643Z
LAST-MODIFIED:20230101T234643Z
UID:347-1697241600-1697327999@camdendistrict.com
SUMMARY:Southwest YPD/WMS DAY
DESCRIPTION:
URL:https://camdendistrict.com/event/southwest-ypd-wms-day/
END:VEVENT
BEGIN:VEVENT
DTSTART;TZID=America/Chicago:20231008T200000
DTEND;TZID=America/Chicago:20231008T210000
DTSTAMP:20260422T113329
CREATED:20230101T234604Z
LAST-MODIFIED:20230101T234604Z
UID:343-1696795200-1696798800@camdendistrict.com
SUMMARY:Meeting with Pastors
DESCRIPTION:
URL:https://camdendistrict.com/event/meeting-with-pastors-9/
END:VEVENT
BEGIN:VEVENT
DTSTART;VALUE=DATE:20231004
DTEND;VALUE=DATE:20231005
DTSTAMP:20260422T113329
CREATED:20230101T234622Z
LAST-MODIFIED:20230101T234622Z
UID:345-1696377600-1696463999@camdendistrict.com
SUMMARY:NEAC
DESCRIPTION:
URL:https://camdendistrict.com/event/neac/
END:VEVENT
BEGIN:VEVENT
DTSTART;TZID=America/Chicago:20231002T200000
DTEND;TZID=America/Chicago:20231002T210000
DTSTAMP:20260422T113329
CREATED:20230101T234448Z
LAST-MODIFIED:20230101T234448Z
UID:337-1696276800-1696280400@camdendistrict.com
SUMMARY:Meeting with Pastors
DESCRIPTION:
URL:https://camdendistrict.com/event/meeting-with-pastors-8/
END:VEVENT
BEGIN:VEVENT
DTSTART;VALUE=DATE:20230920
DTEND;VALUE=DATE:20230921
DTSTAMP:20260422T113329
CREATED:20230101T234529Z
LAST-MODIFIED:20230101T234529Z
UID:341-1695168000-1695254399@camdendistrict.com
SUMMARY:SE Annual Conference
DESCRIPTION:
URL:https://camdendistrict.com/event/se-annual-conference-2/
END:VEVENT
BEGIN:VEVENT
DTSTART;VALUE=DATE:20230920
DTEND;VALUE=DATE:20230921
DTSTAMP:20260422T113329
CREATED:20230101T234424Z
LAST-MODIFIED:20230101T234424Z
UID:335-1695168000-1695254399@camdendistrict.com
SUMMARY:SE Annual Conference
DESCRIPTION:
URL:https://camdendistrict.com/event/se-annual-conference/
END:VEVENT
BEGIN:VEVENT
DTSTART;VALUE=DATE:20230906
DTEND;VALUE=DATE:20230907
DTSTAMP:20260422T113329
CREATED:20230101T234512Z
LAST-MODIFIED:20230101T234512Z
UID:339-1693958400-1694044799@camdendistrict.com
SUMMARY:NW Annual Conference
DESCRIPTION:
URL:https://camdendistrict.com/event/nw-annual-conference-2/
END:VEVENT
BEGIN:VEVENT
DTSTART;VALUE=DATE:20230906
DTEND;VALUE=DATE:20230907
DTSTAMP:20260422T113329
CREATED:20230101T234402Z
LAST-MODIFIED:20230101T234402Z
UID:333-1693958400-1694044799@camdendistrict.com
SUMMARY:NW Annual Conference
DESCRIPTION:
URL:https://camdendistrict.com/event/nw-annual-conference/
END:VEVENT
BEGIN:VEVENT
DTSTART;TZID=America/Chicago:20230905T200000
DTEND;TZID=America/Chicago:20230905T210000
DTSTAMP:20260422T113329
CREATED:20230101T234333Z
LAST-MODIFIED:20230101T234333Z
UID:331-1693944000-1693947600@camdendistrict.com
SUMMARY:Meeting with Pastors
DESCRIPTION:
URL:https://camdendistrict.com/event/meeting-with-pastors-7/
END:VEVENT
BEGIN:VEVENT
DTSTART;VALUE=DATE:20230904
DTEND;VALUE=DATE:20230905
DTSTAMP:20260422T113329
CREATED:20230101T234303Z
LAST-MODIFIED:20230101T234303Z
UID:329-1693785600-1693871999@camdendistrict.com
SUMMARY:Labor Day
DESCRIPTION:
URL:https://camdendistrict.com/event/labor-day/
END:VEVENT
BEGIN:VEVENT
DTSTART;VALUE=DATE:20230823
DTEND;VALUE=DATE:20230824
DTSTAMP:20260422T113329
CREATED:20230101T233247Z
LAST-MODIFIED:20230101T233247Z
UID:273-1692748800-1692835199@camdendistrict.com
SUMMARY:ARR Annual Conference
DESCRIPTION:
URL:https://camdendistrict.com/event/arr-annual-conference/
END:VEVENT
END:VCALENDAR