BEGIN:VCALENDAR
VERSION:2.0
PRODID:-//Camden District AME - ECPv6.15.18//NONSGML v1.0//EN
CALSCALE:GREGORIAN
METHOD:PUBLISH
X-ORIGINAL-URL:https://camdendistrict.com
X-WR-CALDESC:Events for Camden District AME
REFRESH-INTERVAL;VALUE=DURATION:PT1H
X-Robots-Tag:noindex
X-PUBLISHED-TTL:PT1H
BEGIN:VTIMEZONE
TZID:America/Chicago
BEGIN:DAYLIGHT
TZOFFSETFROM:-0600
TZOFFSETTO:-0500
TZNAME:CDT
DTSTART:20240310T080000
END:DAYLIGHT
BEGIN:STANDARD
TZOFFSETFROM:-0500
TZOFFSETTO:-0600
TZNAME:CST
DTSTART:20241103T070000
END:STANDARD
BEGIN:DAYLIGHT
TZOFFSETFROM:-0600
TZOFFSETTO:-0500
TZNAME:CDT
DTSTART:20250309T080000
END:DAYLIGHT
BEGIN:STANDARD
TZOFFSETFROM:-0500
TZOFFSETTO:-0600
TZNAME:CST
DTSTART:20251102T070000
END:STANDARD
BEGIN:DAYLIGHT
TZOFFSETFROM:-0600
TZOFFSETTO:-0500
TZNAME:CDT
DTSTART:20260308T080000
END:DAYLIGHT
BEGIN:STANDARD
TZOFFSETFROM:-0500
TZOFFSETTO:-0600
TZNAME:CST
DTSTART:20261101T070000
END:STANDARD
END:VTIMEZONE
BEGIN:VEVENT
DTSTART;VALUE=DATE:20250613
DTEND;VALUE=DATE:20250614
DTSTAMP:20260424T035921
CREATED:20250521T015730Z
LAST-MODIFIED:20250521T015730Z
UID:879-1749772800-1749859199@camdendistrict.com
SUMMARY:Church School Convention
DESCRIPTION:
URL:https://camdendistrict.com/event/church-school-convention/
END:VEVENT
BEGIN:VEVENT
DTSTART;VALUE=DATE:20250531
DTEND;VALUE=DATE:20250601
DTSTAMP:20260424T035921
CREATED:20250105T003502Z
LAST-MODIFIED:20250105T003502Z
UID:795-1748649600-1748735999@camdendistrict.com
SUMMARY:Southwest WMS Conf
DESCRIPTION:
URL:https://camdendistrict.com/event/southwest-wms-conf/
END:VEVENT
BEGIN:VEVENT
DTSTART;VALUE=DATE:20250519
DTEND;VALUE=DATE:20250520
DTSTAMP:20260424T035921
CREATED:20250105T003446Z
LAST-MODIFIED:20250105T003446Z
UID:793-1747612800-1747699199@camdendistrict.com
SUMMARY:Clergy Meet
DESCRIPTION:
URL:https://camdendistrict.com/event/clergy-meet-6/
END:VEVENT
BEGIN:VEVENT
DTSTART;VALUE=DATE:20250518
DTEND;VALUE=DATE:20250519
DTSTAMP:20260424T035921
CREATED:20250105T003429Z
LAST-MODIFIED:20250105T003429Z
UID:791-1747526400-1747612799@camdendistrict.com
SUMMARY:CEC Budget Due
DESCRIPTION:
URL:https://camdendistrict.com/event/cec-budget-due/
END:VEVENT
BEGIN:VEVENT
DTSTART;VALUE=DATE:20250514
DTEND;VALUE=DATE:20250515
DTSTAMP:20260424T035921
CREATED:20250105T003405Z
LAST-MODIFIED:20250105T003405Z
UID:789-1747180800-1747267199@camdendistrict.com
SUMMARY:Mother's Day
DESCRIPTION:
URL:https://camdendistrict.com/event/mothers-day-2/
END:VEVENT
BEGIN:VEVENT
DTSTART;VALUE=DATE:20250510
DTEND;VALUE=DATE:20250511
DTSTAMP:20260424T035921
CREATED:20250105T003350Z
LAST-MODIFIED:20250105T003350Z
UID:787-1746835200-1746921599@camdendistrict.com
SUMMARY:3rd Quarter Due
DESCRIPTION:
URL:https://camdendistrict.com/event/3rd-quarter-due/
END:VEVENT
BEGIN:VEVENT
DTSTART;TZID=America/Chicago:20250505T190000
DTEND;TZID=America/Chicago:20250505T210000
DTSTAMP:20260424T035921
CREATED:20250105T003331Z
LAST-MODIFIED:20250105T003331Z
UID:785-1746471600-1746478800@camdendistrict.com
SUMMARY:Clergy Meet
DESCRIPTION:
URL:https://camdendistrict.com/event/clergy-meet-5/
END:VEVENT
BEGIN:VEVENT
DTSTART;VALUE=DATE:20250420
DTEND;VALUE=DATE:20250421
DTSTAMP:20260424T035921
CREATED:20250105T003309Z
LAST-MODIFIED:20250105T003805Z
UID:783-1745107200-1745193599@camdendistrict.com
SUMMARY:Easter
DESCRIPTION:
URL:https://camdendistrict.com/event/easter-2/
END:VEVENT
BEGIN:VEVENT
DTSTART;VALUE=DATE:20250417
DTEND;VALUE=DATE:20250420
DTSTAMP:20260424T035921
CREATED:20250105T003255Z
LAST-MODIFIED:20250105T003255Z
UID:781-1744848000-1745107199@camdendistrict.com
SUMMARY:9th Dist Mid Year
DESCRIPTION:April 17 -19
URL:https://camdendistrict.com/event/9th-dist-mid-year/
END:VEVENT
BEGIN:VEVENT
DTSTART;TZID=America/Chicago:20250407T190000
DTEND;TZID=America/Chicago:20250407T210000
DTSTAMP:20260424T035921
CREATED:20250105T003224Z
LAST-MODIFIED:20250105T003224Z
UID:779-1744052400-1744059600@camdendistrict.com
SUMMARY:Clergy Meet
DESCRIPTION:
URL:https://camdendistrict.com/event/clergy-meet-4/
END:VEVENT
BEGIN:VEVENT
DTSTART;VALUE=DATE:20250405
DTEND;VALUE=DATE:20250406
DTSTAMP:20260424T035921
CREATED:20250105T003159Z
LAST-MODIFIED:20250105T003159Z
UID:777-1743811200-1743897599@camdendistrict.com
SUMMARY:WMS Conference
DESCRIPTION:
URL:https://camdendistrict.com/event/wms-conference/
END:VEVENT
BEGIN:VEVENT
DTSTART;VALUE=DATE:20250330
DTEND;VALUE=DATE:20250331
DTSTAMP:20260424T035921
CREATED:20250105T003144Z
LAST-MODIFIED:20250105T003144Z
UID:775-1743292800-1743379199@camdendistrict.com
SUMMARY:5th Sunday Fellowship
DESCRIPTION:
URL:https://camdendistrict.com/event/5th-sunday-fellowship/
END:VEVENT
BEGIN:VEVENT
DTSTART;VALUE=DATE:20250321
DTEND;VALUE=DATE:20250323
DTSTAMP:20260424T035921
CREATED:20250105T003127Z
LAST-MODIFIED:20250105T003841Z
UID:773-1742515200-1742687999@camdendistrict.com
SUMMARY:9TH Dist Sons of Allen
DESCRIPTION:March 21-22
URL:https://camdendistrict.com/event/9th-dist-sons-of-allen/
END:VEVENT
BEGIN:VEVENT
DTSTART;TZID=America/Chicago:20250320T080000
DTEND;TZID=America/Chicago:20250320T170000
DTSTAMP:20260424T035921
CREATED:20250105T003055Z
LAST-MODIFIED:20250105T003055Z
UID:771-1742457600-1742490000@camdendistrict.com
SUMMARY:C.E.C Training Nashville\, TN
DESCRIPTION:
URL:https://camdendistrict.com/event/c-e-c-training-nashville-tn/
END:VEVENT
BEGIN:VEVENT
DTSTART;VALUE=DATE:20250315
DTEND;VALUE=DATE:20250316
DTSTAMP:20260424T035921
CREATED:20250105T003027Z
LAST-MODIFIED:20250105T003027Z
UID:769-1741996800-1742083199@camdendistrict.com
SUMMARY:Camden Dist. Meet
DESCRIPTION:
URL:https://camdendistrict.com/event/camden-dist-meet/
END:VEVENT
BEGIN:VEVENT
DTSTART;VALUE=DATE:20250310
DTEND;VALUE=DATE:20250311
DTSTAMP:20260424T035921
CREATED:20250105T003818Z
LAST-MODIFIED:20250105T003818Z
UID:802-1741564800-1741651199@camdendistrict.com
SUMMARY:Clergy Meet
DESCRIPTION:
URL:https://camdendistrict.com/event/clergy-meet-3/
END:VEVENT
BEGIN:VEVENT
DTSTART;TZID=America/Chicago:20250224T190000
DTEND;TZID=America/Chicago:20250224T210000
DTSTAMP:20260424T035921
CREATED:20250105T002927Z
LAST-MODIFIED:20250105T002927Z
UID:765-1740423600-1740430800@camdendistrict.com
SUMMARY:Clergy Meet
DESCRIPTION:
URL:https://camdendistrict.com/event/clergy-meet-2/
END:VEVENT
BEGIN:VEVENT
DTSTART;VALUE=DATE:20250223
DTEND;VALUE=DATE:20250224
DTSTAMP:20260424T035921
CREATED:20250105T002910Z
LAST-MODIFIED:20250105T002910Z
UID:763-1740268800-1740355199@camdendistrict.com
SUMMARY:Mid Year Budget Due
DESCRIPTION:
URL:https://camdendistrict.com/event/mid-year-budget-due/
END:VEVENT
BEGIN:VEVENT
DTSTART;TZID=America/Chicago:20250217T190000
DTEND;TZID=America/Chicago:20250217T210000
DTSTAMP:20260424T035921
CREATED:20250105T002849Z
LAST-MODIFIED:20250105T002849Z
UID:761-1739818800-1739826000@camdendistrict.com
SUMMARY:RAYACT Call
DESCRIPTION:
URL:https://camdendistrict.com/event/rayact-call/
END:VEVENT
BEGIN:VEVENT
DTSTART;VALUE=DATE:20250214
DTEND;VALUE=DATE:20250215
DTSTAMP:20260424T035921
CREATED:20250105T002823Z
LAST-MODIFIED:20250105T002823Z
UID:759-1739491200-1739577599@camdendistrict.com
SUMMARY:Valentine's Day
DESCRIPTION:
URL:https://camdendistrict.com/event/valentines-day/
END:VEVENT
BEGIN:VEVENT
DTSTART;VALUE=DATE:20250212
DTEND;VALUE=DATE:20250213
DTSTAMP:20260424T035921
CREATED:20250105T002805Z
LAST-MODIFIED:20250105T002805Z
UID:757-1739318400-1739404799@camdendistrict.com
SUMMARY:Founders Day AMEC
DESCRIPTION:
URL:https://camdendistrict.com/event/founders-day-amec/
END:VEVENT
BEGIN:VEVENT
DTSTART;TZID=America/Chicago:20250210T190000
DTEND;TZID=America/Chicago:20250210T210000
DTSTAMP:20260424T035921
CREATED:20250105T002745Z
LAST-MODIFIED:20250105T002745Z
UID:755-1739214000-1739221200@camdendistrict.com
SUMMARY:Clergy Meet 2nd Qtr
DESCRIPTION:
URL:https://camdendistrict.com/event/clergy-meet-2nd-qtr/
END:VEVENT
BEGIN:VEVENT
DTSTART;VALUE=DATE:20250209
DTEND;VALUE=DATE:20250210
DTSTAMP:20260424T035921
CREATED:20250105T002716Z
LAST-MODIFIED:20250105T002716Z
UID:753-1739059200-1739145599@camdendistrict.com
SUMMARY:Super Bowl Caring
DESCRIPTION:
URL:https://camdendistrict.com/event/super-bowl-caring/
END:VEVENT
BEGIN:VEVENT
DTSTART;VALUE=DATE:20250208
DTEND;VALUE=DATE:20250209
DTSTAMP:20260424T035921
CREATED:20250105T003622Z
LAST-MODIFIED:20250105T003622Z
UID:800-1738972800-1739059199@camdendistrict.com
SUMMARY:9th District Founder's Day Symposium
DESCRIPTION:
URL:https://camdendistrict.com/event/9th-district-founders-day-symposium/
END:VEVENT
BEGIN:VEVENT
DTSTART;VALUE=DATE:20250201
DTEND;VALUE=DATE:20250202
DTSTAMP:20260424T035921
CREATED:20250105T002611Z
LAST-MODIFIED:20250105T002611Z
UID:750-1738368000-1738454399@camdendistrict.com
SUMMARY:CDMC Orientation
DESCRIPTION:
URL:https://camdendistrict.com/event/cdmc-orientation/
END:VEVENT
BEGIN:VEVENT
DTSTART;VALUE=DATE:20250127
DTEND;VALUE=DATE:20250128
DTSTAMP:20260424T035921
CREATED:20230101T233404Z
LAST-MODIFIED:20250105T002528Z
UID:283-1737936000-1738022399@camdendistrict.com
SUMMARY:Steward Meeting
DESCRIPTION:
URL:https://camdendistrict.com/event/steward-meeting/
END:VEVENT
BEGIN:VEVENT
DTSTART;VALUE=DATE:20250122
DTEND;VALUE=DATE:20250123
DTSTAMP:20260424T035921
CREATED:20230101T233346Z
LAST-MODIFIED:20250105T002429Z
UID:281-1737504000-1737590399@camdendistrict.com
SUMMARY:WMS Board Meeting
DESCRIPTION:
URL:https://camdendistrict.com/event/wms-board-meeting/
END:VEVENT
BEGIN:VEVENT
DTSTART;VALUE=DATE:20250120
DTEND;VALUE=DATE:20250121
DTSTAMP:20260424T035921
CREATED:20250105T003605Z
LAST-MODIFIED:20250105T003605Z
UID:798-1737331200-1737417599@camdendistrict.com
SUMMARY:MLK Day
DESCRIPTION:
URL:https://camdendistrict.com/event/mlk-day-2/
END:VEVENT
BEGIN:VEVENT
DTSTART;VALUE=DATE:20250117
DTEND;VALUE=DATE:20250118
DTSTAMP:20260424T035921
CREATED:20250105T002312Z
LAST-MODIFIED:20250105T002312Z
UID:746-1737072000-1737158399@camdendistrict.com
SUMMARY:Founders Day Budget Due
DESCRIPTION:
URL:https://camdendistrict.com/event/founders-day-budget-due/
END:VEVENT
BEGIN:VEVENT
DTSTART;TZID=America/Chicago:20250106T190000
DTEND;TZID=America/Chicago:20250106T210000
DTSTAMP:20260424T035921
CREATED:20230101T233321Z
LAST-MODIFIED:20250105T002227Z
UID:277-1736190000-1736197200@camdendistrict.com
SUMMARY:Clergy Meet
DESCRIPTION:
URL:https://camdendistrict.com/event/clergy-meet/
END:VEVENT
END:VCALENDAR